BEGIN:VCALENDAR
VERSION:2.0
PRODID:-//Gnosall Parish Council//Meeting Calendar//EN
CALSCALE:GREGORIAN
METHOD:PUBLISH
BEGIN:VEVENT
UID:70622-20240627@gnosallparishcouncil.gov.uk
DTSTAMP:20260423T151128Z
DTSTART;VALUE=DATE:20240627
DTEND;VALUE=DATE:20240628
SUMMARY:Procedures Review and Health &#038\\; Safety Committee Meeting &#8211\\; 27th June 2024
DESCRIPTION:PRC &amp; H&amp;S Committee Meeting\nView details: https://gnosallparishcouncil.gov.uk/meetings/procedures-review-and-health-safety-committee-meeting-27th-june-2024/
URL:https://gnosallparishcouncil.gov.uk/meetings/procedures-review-and-health-safety-committee-meeting-27th-june-2024/
END:VEVENT
END:VCALENDAR
