BEGIN:VCALENDAR
VERSION:2.0
PRODID:-//Gnosall Parish Council//Meeting Calendar//EN
CALSCALE:GREGORIAN
METHOD:PUBLISH
BEGIN:VEVENT
UID:70780-20250402@gnosallparishcouncil.gov.uk
DTSTAMP:20260423T124456Z
DTSTART;VALUE=DATE:20250402
DTEND;VALUE=DATE:20250403
SUMMARY:Annual Assembly &#8211\\; 2nd April 2025
DESCRIPTION:Annual Assembly Meeting\nView details: https://gnosallparishcouncil.gov.uk/meetings/annual-assembly-2025/
URL:https://gnosallparishcouncil.gov.uk/meetings/annual-assembly-2025/
END:VEVENT
END:VCALENDAR
