BEGIN:VCALENDAR
VERSION:2.0
PRODID:-//Gnosall Parish Council//Meeting Calendar//EN
CALSCALE:GREGORIAN
METHOD:PUBLISH
BEGIN:VEVENT
UID:70826-20241105@gnosallparishcouncil.gov.uk
DTSTAMP:20260423T132556Z
DTSTART;VALUE=DATE:20241105
DTEND;VALUE=DATE:20241106
SUMMARY:Procedures Review and Health &#038\\; Safety Committee Meeting &#8211\\; 5th Nov 2024
DESCRIPTION:PRC &amp; H&amp;S Committee Meeting\nView details: https://gnosallparishcouncil.gov.uk/meetings/procedures-review-and-health-safety-committee-meeting-5th-nov-2024/
URL:https://gnosallparishcouncil.gov.uk/meetings/procedures-review-and-health-safety-committee-meeting-5th-nov-2024/
END:VEVENT
END:VCALENDAR
