BEGIN:VCALENDAR
VERSION:2.0
PRODID:-//Gnosall Parish Council//Meeting Calendar//EN
CALSCALE:GREGORIAN
METHOD:PUBLISH
BEGIN:VEVENT
UID:70859-20240523@gnosallparishcouncil.gov.uk
DTSTAMP:20260423T142328Z
DTSTART;VALUE=DATE:20240523
DTEND;VALUE=DATE:20240524
SUMMARY:Annual Assembly &#8211\\; 23rd May 2024
DESCRIPTION:Annual Assembly Meeting\nView details: https://gnosallparishcouncil.gov.uk/meetings/annual-assembly-meeting-23rd-may-2024/
URL:https://gnosallparishcouncil.gov.uk/meetings/annual-assembly-meeting-23rd-may-2024/
END:VEVENT
END:VCALENDAR
