BEGIN:VCALENDAR
VERSION:2.0
PRODID:-//Gnosall Parish Council//Meeting Calendar//EN
CALSCALE:GREGORIAN
METHOD:PUBLISH
BEGIN:VEVENT
UID:70917-20250310@gnosallparishcouncil.gov.uk
DTSTAMP:20260423T215846Z
DTSTART;VALUE=DATE:20250310
DTEND;VALUE=DATE:20250311
SUMMARY:Council Meeting – 10th March 2025
DESCRIPTION:Full Council Meeting\nView details: https://gnosallparishcouncil.gov.uk/meetings/council-meeting-10th-march-2025/
URL:https://gnosallparishcouncil.gov.uk/meetings/council-meeting-10th-march-2025/
END:VEVENT
END:VCALENDAR
