BEGIN:VCALENDAR
VERSION:2.0
PRODID:-//Gnosall Parish Council//Meeting Calendar//EN
CALSCALE:GREGORIAN
METHOD:PUBLISH
BEGIN:VEVENT
UID:70989-20250722@gnosallparishcouncil.gov.uk
DTSTAMP:20260423T143345Z
DTSTART;VALUE=DATE:20250722
DTEND;VALUE=DATE:20250723
SUMMARY:Resources &#038\\; Personnel Committee Meeting\\, 22nd July 2025
DESCRIPTION:Resources Personnel Committee Meeting\nView details: https://gnosallparishcouncil.gov.uk/meetings/resources-personnel-committee-meeting-22nd-july-2025/
URL:https://gnosallparishcouncil.gov.uk/meetings/resources-personnel-committee-meeting-22nd-july-2025/
END:VEVENT
END:VCALENDAR
