BEGIN:VCALENDAR
VERSION:2.0
PRODID:-//Gnosall Parish Council//Meeting Calendar//EN
CALSCALE:GREGORIAN
METHOD:PUBLISH
BEGIN:VEVENT
UID:71079-20250821@gnosallparishcouncil.gov.uk
DTSTAMP:20260423T150845Z
DTSTART;VALUE=DATE:20250821
DTEND;VALUE=DATE:20250822
SUMMARY:Cancelled: Open Spaces &#038\\; Burial Ground Committee Meeting\\, 21st August 2025
DESCRIPTION:Open Spaces &amp; Burial Ground Meeting\nView details: https://gnosallparishcouncil.gov.uk/meetings/open-spaces-burial-ground-committee-meeting-21st-august-2025/
URL:https://gnosallparishcouncil.gov.uk/meetings/open-spaces-burial-ground-committee-meeting-21st-august-2025/
END:VEVENT
END:VCALENDAR
