BEGIN:VCALENDAR
VERSION:2.0
PRODID:-//Gnosall Parish Council//Meeting Calendar//EN
CALSCALE:GREGORIAN
METHOD:PUBLISH
BEGIN:VEVENT
UID:71268-20260115@gnosallparishcouncil.gov.uk
DTSTAMP:20260423T124929Z
DTSTART;VALUE=DATE:20260115
DTEND;VALUE=DATE:20260116
SUMMARY:Planning Committee Meeting &#8211\\; 15th January 2026
DESCRIPTION:Planning Committee Meeting\nView details: https://gnosallparishcouncil.gov.uk/meetings/planning-committee-meeting-15th-january-2026/
URL:https://gnosallparishcouncil.gov.uk/meetings/planning-committee-meeting-15th-january-2026/
END:VEVENT
END:VCALENDAR
