BEGIN:VCALENDAR
VERSION:2.0
PRODID:-//Gnosall Parish Council//Meeting Calendar//EN
CALSCALE:GREGORIAN
METHOD:PUBLISH
BEGIN:VEVENT
UID:76247-20211118@gnosallparishcouncil.gov.uk
DTSTAMP:20260421T082436Z
DTSTART;VALUE=DATE:20211118
DTEND;VALUE=DATE:20211119
SUMMARY:Annual Assembly &#8211\\; 18th November 2021
DESCRIPTION:Annual Assembly Meeting\nView details: https://gnosallparishcouncil.gov.uk/meetings/annual-assembly-18th-november-2021/
URL:https://gnosallparishcouncil.gov.uk/meetings/annual-assembly-18th-november-2021/
END:VEVENT
END:VCALENDAR
