BEGIN:VCALENDAR
VERSION:2.0
PRODID:-//Gnosall Parish Council//Meeting Calendar//EN
CALSCALE:GREGORIAN
METHOD:PUBLISH
BEGIN:VEVENT
UID:76327-20220215@gnosallparishcouncil.gov.uk
DTSTAMP:20260421T082532Z
DTSTART;VALUE=DATE:20220215
DTEND;VALUE=DATE:20220216
SUMMARY:Health &#038\\; Safety Committee 2022
DESCRIPTION:Committees pre 2024 Meeting\nView details: https://gnosallparishcouncil.gov.uk/meetings/health-safety-committee-2022/
URL:https://gnosallparishcouncil.gov.uk/meetings/health-safety-committee-2022/
END:VEVENT
END:VCALENDAR
