BEGIN:VCALENDAR
VERSION:2.0
PRODID:-//Gnosall Parish Council//Meeting Calendar//EN
CALSCALE:GREGORIAN
METHOD:PUBLISH
BEGIN:VEVENT
UID:76481-20260506@gnosallparishcouncil.gov.uk
DTSTAMP:20260423T110907Z
DTSTART;VALUE=DATE:20260506
DTEND;VALUE=DATE:20260507
SUMMARY:Annual Assembly &#8211\\; 6th May 2026
DESCRIPTION:Annual Assembly Meeting\nView details: https://gnosallparishcouncil.gov.uk/meetings/annual-assembly-6th-may-2026/
URL:https://gnosallparishcouncil.gov.uk/meetings/annual-assembly-6th-may-2026/
END:VEVENT
END:VCALENDAR
