BEGIN:VCALENDAR
VERSION:2.0
PRODID:-//Gnosall Parish Council//Meeting Calendar//EN
CALSCALE:GREGORIAN
METHOD:PUBLISH
BEGIN:VEVENT
UID:76482-20260511@gnosallparishcouncil.gov.uk
DTSTAMP:20260423T110840Z
DTSTART;VALUE=DATE:20260511
DTEND;VALUE=DATE:20260512
SUMMARY:Annual Parish Meeting &#8211\\; 11th May 2026
DESCRIPTION:Annual Parish Meeting Meeting\nView details: https://gnosallparishcouncil.gov.uk/meetings/annual-parish-meeting-11th-may-2026/
URL:https://gnosallparishcouncil.gov.uk/meetings/annual-parish-meeting-11th-may-2026/
END:VEVENT
END:VCALENDAR
