BEGIN:VCALENDAR
VERSION:2.0
PRODID:-//Gnosall Parish Council//Meeting Calendar//EN
CALSCALE:GREGORIAN
METHOD:PUBLISH
BEGIN:VEVENT
UID:76484-20260713@gnosallparishcouncil.gov.uk
DTSTAMP:20260423T110840Z
DTSTART;VALUE=DATE:20260713
DTEND;VALUE=DATE:20260714
SUMMARY:Council Meeting &#8211\\; 13th July 2026
DESCRIPTION:Full Council Meeting\nView details: https://gnosallparishcouncil.gov.uk/meetings/full-council-13th-july-2026/
URL:https://gnosallparishcouncil.gov.uk/meetings/full-council-13th-july-2026/
END:VEVENT
END:VCALENDAR
