BEGIN:VCALENDAR
VERSION:2.0
PRODID:-//Gnosall Parish Council//Meeting Calendar//EN
CALSCALE:GREGORIAN
METHOD:PUBLISH
BEGIN:VEVENT
UID:76486-20261012@gnosallparishcouncil.gov.uk
DTSTAMP:20260423T110138Z
DTSTART;VALUE=DATE:20261012
DTEND;VALUE=DATE:20261013
SUMMARY:Council Meeting &#8211\\; 12th October 2026
DESCRIPTION:Full Council Meeting\nView details: https://gnosallparishcouncil.gov.uk/meetings/council-meeting-12th-october-2026/
URL:https://gnosallparishcouncil.gov.uk/meetings/council-meeting-12th-october-2026/
END:VEVENT
END:VCALENDAR
