BEGIN:VCALENDAR
VERSION:2.0
PRODID:-//Gnosall Parish Council//Meeting Calendar//EN
CALSCALE:GREGORIAN
METHOD:PUBLISH
BEGIN:VEVENT
UID:76487-20261109@gnosallparishcouncil.gov.uk
DTSTAMP:20260423T123155Z
DTSTART;VALUE=DATE:20261109
DTEND;VALUE=DATE:20261110
SUMMARY:Council Meeting &#8211\\; 9th November 2026
DESCRIPTION:Full Council Meeting\nView details: https://gnosallparishcouncil.gov.uk/meetings/council-meeting-9th-november-2026/
URL:https://gnosallparishcouncil.gov.uk/meetings/council-meeting-9th-november-2026/
END:VEVENT
END:VCALENDAR
