BEGIN:VCALENDAR
VERSION:2.0
PRODID:-//Gnosall Parish Council//Meeting Calendar//EN
CALSCALE:GREGORIAN
METHOD:PUBLISH
BEGIN:VEVENT
UID:76488-20261214@gnosallparishcouncil.gov.uk
DTSTAMP:20260423T123220Z
DTSTART;VALUE=DATE:20261214
DTEND;VALUE=DATE:20261215
SUMMARY:Council Meeting &#8211\\; 14th December 2026
DESCRIPTION:Full Council Meeting\nView details: https://gnosallparishcouncil.gov.uk/meetings/council-meeting-14th-december-2026/
URL:https://gnosallparishcouncil.gov.uk/meetings/council-meeting-14th-december-2026/
END:VEVENT
END:VCALENDAR
