BEGIN:VCALENDAR
VERSION:2.0
PRODID:-//Gnosall Parish Council//Meeting Calendar//EN
CALSCALE:GREGORIAN
METHOD:PUBLISH
BEGIN:VEVENT
UID:76491-20260611@gnosallparishcouncil.gov.uk
DTSTAMP:20260423T110821Z
DTSTART;VALUE=DATE:20260611
DTEND;VALUE=DATE:20260612
SUMMARY:Planning Committee Meeting &#8211\\; 11th June 2026
DESCRIPTION:Planning Committee Meeting\nView details: https://gnosallparishcouncil.gov.uk/meetings/planning-committee-meeting-11th-june-2026/
URL:https://gnosallparishcouncil.gov.uk/meetings/planning-committee-meeting-11th-june-2026/
END:VEVENT
END:VCALENDAR
