BEGIN:VCALENDAR
VERSION:2.0
PRODID:-//Gnosall Parish Council//Meeting Calendar//EN
CALSCALE:GREGORIAN
METHOD:PUBLISH
BEGIN:VEVENT
UID:76493-20260813@gnosallparishcouncil.gov.uk
DTSTAMP:20260423T110840Z
DTSTART;VALUE=DATE:20260813
DTEND;VALUE=DATE:20260814
SUMMARY:Planning Committee Meeting &#8211\\; 13th August 2026
DESCRIPTION:Planning Committee Meeting\nView details: https://gnosallparishcouncil.gov.uk/meetings/planning-committee-meeting-13th-august-2026/
URL:https://gnosallparishcouncil.gov.uk/meetings/planning-committee-meeting-13th-august-2026/
END:VEVENT
END:VCALENDAR
