BEGIN:VCALENDAR
VERSION:2.0
PRODID:-//Gnosall Parish Council//Meeting Calendar//EN
CALSCALE:GREGORIAN
METHOD:PUBLISH
BEGIN:VEVENT
UID:76495-20261008@gnosallparishcouncil.gov.uk
DTSTAMP:20260423T123155Z
DTSTART;VALUE=DATE:20261008
DTEND;VALUE=DATE:20261009
SUMMARY:Planning Committee Meeting 8th October 2026
DESCRIPTION:Planning Committee Meeting\nView details: https://gnosallparishcouncil.gov.uk/meetings/planning-committee-meeting-8th-october-2026/
URL:https://gnosallparishcouncil.gov.uk/meetings/planning-committee-meeting-8th-october-2026/
END:VEVENT
END:VCALENDAR
