BEGIN:VCALENDAR
VERSION:2.0
PRODID:-//Gnosall Parish Council//Meeting Calendar//EN
CALSCALE:GREGORIAN
METHOD:PUBLISH
BEGIN:VEVENT
UID:76496-20261112@gnosallparishcouncil.gov.uk
DTSTAMP:20260423T123926Z
DTSTART;VALUE=DATE:20261112
DTEND;VALUE=DATE:20261113
SUMMARY:Planning committee Meeting &#8211\\; 12th November 2026
DESCRIPTION:Planning Committee Meeting\nView details: https://gnosallparishcouncil.gov.uk/meetings/planning-committee-meeting-12th-november-2026/
URL:https://gnosallparishcouncil.gov.uk/meetings/planning-committee-meeting-12th-november-2026/
END:VEVENT
END:VCALENDAR
