BEGIN:VCALENDAR
VERSION:2.0
PRODID:-//Gnosall Parish Council//Meeting Calendar//EN
CALSCALE:GREGORIAN
METHOD:PUBLISH
BEGIN:VEVENT
UID:76497-20261210@gnosallparishcouncil.gov.uk
DTSTAMP:20260423T123103Z
DTSTART;VALUE=DATE:20261210
DTEND;VALUE=DATE:20261211
SUMMARY:Planning Committee Meeting &#8211\\; 10th December 2026
DESCRIPTION:Planning Committee Meeting\nView details: https://gnosallparishcouncil.gov.uk/meetings/planning-committee-meeting-10th-december-2026/
URL:https://gnosallparishcouncil.gov.uk/meetings/planning-committee-meeting-10th-december-2026/
END:VEVENT
END:VCALENDAR
