BEGIN:VCALENDAR
VERSION:2.0
PRODID:-//Gnosall Parish Council//Meeting Calendar//EN
CALSCALE:GREGORIAN
METHOD:PUBLISH
BEGIN:VEVENT
UID:76510-20260930@gnosallparishcouncil.gov.uk
DTSTAMP:20260423T123220Z
DTSTART;VALUE=DATE:20260930
DTEND;VALUE=DATE:20261001
SUMMARY:Grosvenor &#038\\; Events Committee Meeting &#8211\\; 30th September 2026
DESCRIPTION:Grosvenor &amp; Events Committee Meeting\nView details: https://gnosallparishcouncil.gov.uk/meetings/grosvenor-events-committee-meeting-30th-september-2026/
URL:https://gnosallparishcouncil.gov.uk/meetings/grosvenor-events-committee-meeting-30th-september-2026/
END:VEVENT
END:VCALENDAR
