BEGIN:VCALENDAR
VERSION:2.0
PRODID:-//Gnosall Parish Council//Meeting Calendar//EN
CALSCALE:GREGORIAN
METHOD:PUBLISH
BEGIN:VEVENT
UID:76511-20261105@gnosallparishcouncil.gov.uk
DTSTAMP:20260423T123246Z
DTSTART;VALUE=DATE:20261105
DTEND;VALUE=DATE:20261106
SUMMARY:Grosvenor &#038\\; Events Committee Meeting &#8211\\; 5th November 2026
DESCRIPTION:Grosvenor &amp; Events Committee Meeting\nView details: https://gnosallparishcouncil.gov.uk/meetings/grosvenor-events-committee-meeting-5th-november-2026/
URL:https://gnosallparishcouncil.gov.uk/meetings/grosvenor-events-committee-meeting-5th-november-2026/
END:VEVENT
END:VCALENDAR
