BEGIN:VCALENDAR
VERSION:2.0
PRODID:-//Gnosall Parish Council//Meeting Calendar//EN
CALSCALE:GREGORIAN
METHOD:PUBLISH
BEGIN:VEVENT
UID:76551-20260423@gnosallparishcouncil.gov.uk
DTSTAMP:20260423T111659Z
DTSTART;VALUE=DATE:20260423
DTEND;VALUE=DATE:20260424
SUMMARY:Grosvenor &#038\\; Events Committee GFEST Meeting &#8211\\; 23rd April 2026 CANCELLED
DESCRIPTION:Grosvenor &amp; Events Committee Meeting\nView details: https://gnosallparishcouncil.gov.uk/meetings/grosvenor-events-committee-gfest-meeting-23rd-april-2026/
URL:https://gnosallparishcouncil.gov.uk/meetings/grosvenor-events-committee-gfest-meeting-23rd-april-2026/
END:VEVENT
END:VCALENDAR
