BEGIN:VCALENDAR
VERSION:2.0
PRODID:-//Gnosall Parish Council//Meeting Calendar//EN
CALSCALE:GREGORIAN
METHOD:PUBLISH
BEGIN:VEVENT
UID:76556-20260427@gnosallparishcouncil.gov.uk
DTSTAMP:20260423T110908Z
DTSTART;VALUE=DATE:20260427
DTEND;VALUE=DATE:20260428
SUMMARY:Grosvenor &#038\\; Events (GFEST) Committee Meeting &#8211\\; 27th April 2026
DESCRIPTION:Grosvenor &amp; Events Committee Meeting\nView details: https://gnosallparishcouncil.gov.uk/meetings/grosvenor-events-gfest-committee-meeting-27th-april-2026/
URL:https://gnosallparishcouncil.gov.uk/meetings/grosvenor-events-gfest-committee-meeting-27th-april-2026/
END:VEVENT
END:VCALENDAR
